BEGIN:VCALENDAR
VERSION:2.0
CALSCALE:GREGORIAN
BEGIN:VEVENT
SUMMARY:Sat June 13, 2026 Social Event at Heritage Park (Dinner & Casino) for CAVM Members +1 only (IN-PERSON)
DTSTART;TZID=America/Edmonton:20260613T170000
DTEND;TZID=America/Edmonton:20260613T170000
LOCATION:Heritage Park  Calgary, AB
DESCRIPTION:
STATUS:CONFIRMED
SEQUENCE:3
BEGIN:VALARM
TRIGGER:-PT60M
DESCRIPTION:CAVM Event Reminder
ACTION:DISPLAY
END:VALARM
END:VEVENT
END:VCALENDAR
